BEGIN:VCALENDAR
VERSION:2.0
PRODID:-//YIMBY//Events//EN
DESCRIPTION:Upcoming events for YIMBYs of NOVA
NAME:YIMBYs of NOVA
DTSTAMP:20260423T073745Z
BEGIN:VEVENT
SUMMARY:Postcard Party to Thank VA Housing Champions
DTSTART:20260423T173000
DTEND:20260423T193000
DTSTAMP:20260327T155209Z
DESCRIPTION:Join us to write postcards to thank the Delegates\, Senators\,
  and local elected officials who supported the pro-housing bills from the 
 Commonwealth Housing Coalition in the 2026 Legislative Session. Materials 
 provided - come when you can! We'll have pizza. (For more details visit: h
 ttps://yimbysofnova.org/events/postcard-party-to-thank-va-housing-champion
 s/)
URL:https://yimbysofnova.org/events/postcard-party-to-thank-va-housing-cha
 mpions/
END:VEVENT
BEGIN:VEVENT
SUMMARY:YIMBY Spring Picnic
DTSTART:20260425T120000
DTEND:20260425T160000
DTSTAMP:20260213T195140Z
DESCRIPTION:Join us for a picnic with outdoor games. Bring your kids\, you
 r friends\, your parents\, and your dogs to enjoy springtime in one of Arl
 ington's best urban parks. We'll provide drinks and main dishes (including
  vegetarian). Please bring a side/dessert to share.  (For more details vis
 it: https://yimbysofnova.org/events/yimby-recess/)
URL:https://yimbysofnova.org/events/yimby-recess/
END:VEVENT
BEGIN:VEVENT
SUMMARY:YIMBY Curious: An Intro to the Pro-Housing Movement in Arlington
DTSTART:20260611T180000
DTEND:20260611T193000
DTSTAMP:20260418T005301Z
DESCRIPTION:Are you curious about the YIMBY movement? Do you think the ren
 t is too high and there aren't enough housing options\, but not sure what 
 you can do about it? Join our YIMBY curious event to learn more about who 
 we are and how we advocate for affordable\, sustainable\, and abundant hou
 sing. This event will include a short presentation and plenty of time for 
 discussion and conversation. Snacks provided!We welcome everyone with a go
 od-faith interest in solutions to the housing crisis and who can participa
 te with openness to YIMBY principles.(This event is not sponsored by the A
 rlington Public Library.) (For more details visit: https://yimbysofnova.or
 g/events/yimby-curious-an-intro-to-the-pro-housing-movement-in-arlington/)
URL:https://yimbysofnova.org/events/yimby-curious-an-intro-to-the-pro-hous
 ing-movement-in-arlington/
END:VEVENT
END:VCALENDAR
